BEGIN:VCALENDAR
VERSION:2.0
PRODID:-//Washington State Concerns Of Police Survivors - ECPv6.15.20//NONSGML v1.0//EN
CALSCALE:GREGORIAN
METHOD:PUBLISH
X-WR-CALNAME:Washington State Concerns Of Police Survivors
X-ORIGINAL-URL:https://www.washingtonstatecops.org
X-WR-CALDESC:Events for Washington State Concerns Of Police Survivors
REFRESH-INTERVAL;VALUE=DURATION:PT1H
X-Robots-Tag:noindex
X-PUBLISHED-TTL:PT1H
BEGIN:VTIMEZONE
TZID:UTC
BEGIN:STANDARD
TZOFFSETFROM:+0000
TZOFFSETTO:+0000
TZNAME:UTC
DTSTART:20250101T000000
END:STANDARD
END:VTIMEZONE
BEGIN:VEVENT
DTSTART;VALUE=DATE:20260713
DTEND;VALUE=DATE:20260719
DTSTAMP:20260422T213908
CREATED:20190103T024136Z
LAST-MODIFIED:20260125T065108Z
UID:1568-1783900800-1784419199@www.washingtonstatecops.org
SUMMARY:C.O.P.S. Kids Camp
DESCRIPTION:C.O.P.S. Kids Camp is planned for surviving children (6-14 years of age) and their parent or legal guardian of law enforcement officers who died in the line of duty\, as determined by C.O.P.S. criteria .  Children MUST be accompanied by a parent or legal guardian to attend.\nC.O.P.S. Kids Camp provides family interaction\, camp activities\, grief counseling\, relaxation and lots of old-fashioned fun!\nCampers will have the opportunity to attend age-appropriate grief counseling sessions\, and participate in activities such as: swimming\, fishing\, arts and crafts\, canoeing\, ropes courses\, archery\, shooting sports\, and campfire skits.  It is our goal for campers to leave the week with a continuing support system of peers who truly understand and gain a sense of personal growth with hope for the future.\n     For more information and to register\, visit Kids Camp\n      The registration deadline is June 13\nVisit our Resources page to download the Weekend Retreat Eligibility Form\nOr contact us at Info@WashingtonStateCops.Org and we’ll email the form to you.
URL:https://www.washingtonstatecops.org/event/c-o-p-s-kids-camp/
LOCATION:Salvation Army Wonderland Camp – Camp Lake\, WI\, 9241 Camp Lake Road\, Camp Lake\, Wisconsin\, 53109
END:VEVENT
END:VCALENDAR